BEGIN:VCALENDAR
VERSION:2.0
PRODID:-//PA Business One-Stop Shop - ECPv5.14.0.4//NONSGML v1.0//EN
CALSCALE:GREGORIAN
METHOD:PUBLISH
X-WR-CALNAME:PA Business One-Stop Shop
X-ORIGINAL-URL:https://business.pa.gov
X-WR-CALDESC:Events for PA Business One-Stop Shop
REFRESH-INTERVAL;VALUE=DURATION:PT1H
X-Robots-Tag:noindex
X-PUBLISHED-TTL:PT1H
BEGIN:VTIMEZONE
TZID:America/New_York
BEGIN:DAYLIGHT
TZOFFSETFROM:-0500
TZOFFSETTO:-0400
TZNAME:EDT
DTSTART:20250309T070000
END:DAYLIGHT
BEGIN:STANDARD
TZOFFSETFROM:-0400
TZOFFSETTO:-0500
TZNAME:EST
DTSTART:20251102T060000
END:STANDARD
END:VTIMEZONE
BEGIN:VEVENT
DTSTART;TZID=America/New_York:20250925T090000
DTEND;TZID=America/New_York:20250925T103000
DTSTAMP:20260421T133054
CREATED:20250825T131815Z
LAST-MODIFIED:20250825T155107Z
UID:115719-1758790800-1758796200@business.pa.gov
SUMMARY:How to Access the Capital You Need - virtual session
DESCRIPTION:Hear from an SBA preferred lender to learn how to acess capital from business acquisiton to start-up financing to ground-up construction and every state in between. \n \n9:00 a.m. to 10:30 a.m.  \nRegistration and Fees: Payment of seminar fees may be made by check\, money order or credit card. Payment must be received to guarantee your space in an event. \nRefund Policy: If you wish to request a refund\, please contact the conference organizer listed above to discuss. You may also elect to send a substitute in your place. If the event is cancelled\, all fees will be returned. \nSpecial Accommodations: In accordance with the American Disabilities Act and state law\, you may request accommodations due to a disability by contacting the event organizer listed above. Advance notice may be necessary for some accommodations. Registration must be paid prior to accommodation requests.
URL:https://business.pa.gov/event/how-to-access-the-capital-you-need-virtual-session-6/
LOCATION:Webinar\, United States
CATEGORIES:Business Financing
ATTACH;FMTTYPE=image/png:https://business.pa.gov/wp-content/uploads/2024/05/image_107CB3CE-D93C-4A01-BAF9-7BA3B49BA231.png
ORGANIZER;CN="Terri%20Cook":MAILTO:SBDC@pitt.edu
END:VEVENT
END:VCALENDAR