BEGIN:VCALENDAR
VERSION:2.0
PRODID:-//PA Business One-Stop Shop - ECPv5.14.0.4//NONSGML v1.0//EN
CALSCALE:GREGORIAN
METHOD:PUBLISH
X-WR-CALNAME:PA Business One-Stop Shop
X-ORIGINAL-URL:https://business.pa.gov
X-WR-CALDESC:Events for PA Business One-Stop Shop
REFRESH-INTERVAL;VALUE=DURATION:PT1H
X-Robots-Tag:noindex
X-PUBLISHED-TTL:PT1H
BEGIN:VTIMEZONE
TZID:America/New_York
BEGIN:DAYLIGHT
TZOFFSETFROM:-0500
TZOFFSETTO:-0400
TZNAME:EDT
DTSTART:20250309T070000
END:DAYLIGHT
BEGIN:STANDARD
TZOFFSETFROM:-0400
TZOFFSETTO:-0500
TZNAME:EST
DTSTART:20251102T060000
END:STANDARD
BEGIN:DAYLIGHT
TZOFFSETFROM:-0500
TZOFFSETTO:-0400
TZNAME:EDT
DTSTART:20260308T070000
END:DAYLIGHT
BEGIN:STANDARD
TZOFFSETFROM:-0400
TZOFFSETTO:-0500
TZNAME:EST
DTSTART:20261101T060000
END:STANDARD
END:VTIMEZONE
BEGIN:VEVENT
DTSTART;TZID=America/New_York:20260107T083000
DTEND;TZID=America/New_York:20260107T100000
DTSTAMP:20260421T081004
CREATED:20251226T141749Z
LAST-MODIFIED:20251226T151620Z
UID:117413-1767774600-1767780000@business.pa.gov
SUMMARY:First Steps: Mapping the Business Concept  [Start-Up Essentials]
DESCRIPTION:Are you thinking about launching a small business? Not sure what is involved? Unsure if you have a viable business idea? Join this introductory presentation to break down the nuts and bolts of what is needed to start a business. \n \nAttendees will be able to:– Recognize steps to starting a business– Utilize a business concept analysis to understand the viability of their business concept– Understand differing legal structures– Learn how to decide if starting a business is right for you! \n \nTarget Audience:– Start-up businesses– Individuals in the ideation and research stages– Individuals preparing to launch their business– Intermediate businesses looking for refreshers \n \nPresenter: Isabel Krome \n \nIsabel Krome joined Temple Small Business Development Center as a Business Consultant in 2021. She is particularly passionate about supporting female and LGBT+ business owners and has helped to launch and grow many businesses over the years\, including professional service providers\, creative professionals\, daycare businesses\, cleaning companies\, and eCommerce businesses. \n \nIsabel has over a decade of small business development experience. Her work has been wide-ranging\, including business model planning\, market research\, AI implementation\, business formalization\, accessing capital\, strategic planning\, diversity certifications\, and more.
URL:https://business.pa.gov/event/first-steps-mapping-the-business-concept-start-up-essentials/
LOCATION:Webinar\, United States
CATEGORIES:Business Plan
ORGANIZER;CN="Temple%20SBDC":MAILTO:sbdc@temple.edu
END:VEVENT
BEGIN:VEVENT
DTSTART;TZID=America/New_York:20251023T180000
DTEND;TZID=America/New_York:20251023T193000
DTSTAMP:20260421T081004
CREATED:20250925T145231Z
LAST-MODIFIED:20250925T190311Z
UID:116231-1761242400-1761247800@business.pa.gov
SUMMARY:Business Model Canvas - Map Your Path to Success
DESCRIPTION:Running a business is exciting—but it can also be overwhelming. Where do you start? How do you keep it all connected? \n \nThe Business Model Canvas (BMC) is your answer. In this webinar\, you’ll learn how to map your entire business on a single page—customers\, products\, revenue\, and the systems that make it work. The BMC is simple\, visual\, and practical\, giving you a clear snapshot you can use to plan\, test\, and grow. \n \nThis session will be lead by SCORE mentor of Chester/Delaware County\, George Hall. George brings over 20 years of leadership experience across organizations like Disney\, SAP\, the University of Pennsylvania\, and Bristol-Myers Squibb. He’s also served as a Board Member for the American Cancer Society\, reflecting his commitment to community service.
URL:https://business.pa.gov/event/business-model-canvas-map-your-path-to-success/
LOCATION:Webinar\, United States
CATEGORIES:Business Plan
ATTACH;FMTTYPE=image/png:https://business.pa.gov/wp-content/uploads/2025/09/image_0598403B-FEBF-459C-9867-341AD7D5B41E.png
ORGANIZER;CN="Zachary%20Piotti":MAILTO:zpiotti@widener.edu
END:VEVENT
BEGIN:VEVENT
DTSTART;TZID=America/New_York:20251009T083000
DTEND;TZID=America/New_York:20251009T100000
DTSTAMP:20260421T081004
CREATED:20250925T143114Z
LAST-MODIFIED:20250925T153217Z
UID:116153-1759998600-1760004000@business.pa.gov
SUMMARY:First Steps: Concept to Plan
DESCRIPTION:Do you have a business concept in mind but aren’t sure of the next steps? This presentation is all about turning that concept into a concrete plan\, and we’ll discuss details around revenue streams\, market research\, industry research\, competitive analysis\, and more. This is a great follow up to our Business 101 class\, but you can also jump right in. \n \nAttendees will be able to: -Utilize market research and business planning tools to prepare their business feasibility plan -Identify their start up costs and business funding needs -Understand different funding options \n \nTarget Audience: – Start-up businesses – Individuals in the ideation and research stages – Individuals preparing to launch their business – Intermediate businesses looking for refreshers \n \nMark Tucker\, a Start-Up Consultant at Temple SBDC\, will be presenting this webinar. Mark has over 30 years of executive-level experience in the business\, real-estate\, and academic sectors\, using his background in sales and business plan development to assist small businesses enhance their capacity for strategic growth. He comes to Temple with a specific knowledge base and skill set to provide consulting and technical assistance to entrepreneurs and new enterprises in the Delaware Valley. Mark has served in leadership roles in the healthcare\, retail and real estate industries. Most recently\, his philanthropic endeavors have seen him partner with Germantown Friends School and Saint Christopher’s Hospital for Children. Mark received his B.A. from Widener University and received certification in minority business development from Tuck School of Business.
URL:https://business.pa.gov/event/first-steps-concept-to-plan-15/
LOCATION:Webinar\, United States
CATEGORIES:Business Plan
ATTACH;FMTTYPE=image/png:https://business.pa.gov/wp-content/uploads/2025/09/image_96BDEC76-8A31-4C1B-A787-C31CA4D97C1F.png
ORGANIZER;CN="Temple%20SBDC":MAILTO:sbdc@temple.edu
END:VEVENT
BEGIN:VEVENT
DTSTART;TZID=America/New_York:20251002T083000
DTEND;TZID=America/New_York:20251002T100000
DTSTAMP:20260421T081004
CREATED:20250925T142730Z
LAST-MODIFIED:20250925T145135Z
UID:116119-1759393800-1759399200@business.pa.gov
SUMMARY:First Steps: Mapping the Business Concept
DESCRIPTION:Are you thinking about launching a small business? Not sure what is involved? Unsure if you have a viable business idea? Join this introductory presentation to break down the nuts and bolts of what is needed to start a business. \n \nAttendees will be able to:– Recognize steps to starting a business– Utilize a business concept analysis to understand the viability of their business concept– Understand differing legal structures– Learn how to decide if starting a business is right for you! \n \nTarget Audience:– Start-up businesses– Individuals in the ideation and research stages– Individuals preparing to launch their business– Intermediate businesses looking for refreshers \n \nMark Tucker\, a Start-Up Consultant at Temple SBDC\, will be presenting this webinar. Mark has over 30 years of executive-level experience in the business\, real-estate\, and academic sectors\, using his background in sales and business plan development to assist small businesses enhance their capacity for strategic growth. He comes to Temple with a specific knowledge base and skill set to provide consulting and technical assistance to entrepreneurs and new enterprises in the Delaware Valley. Mark has served in leadership roles in the healthcare\, retail and real estate industries. Most recently\, his philanthropic endeavors have seen him partner with Germantown Friends School and Saint Christopher’s Hospital for Children. Mark received his B.A. from Widener University and received certification in minority business development from Tuck School of Business.
URL:https://business.pa.gov/event/first-steps-mapping-the-business-concept-15/
LOCATION:Webinar\, United States
CATEGORIES:Business Plan
ATTACH;FMTTYPE=image/png:https://business.pa.gov/wp-content/uploads/2025/09/image_730A34BC-01CA-4668-A541-8858CA276C40_1.png
ORGANIZER;CN="Temple%20SBDC":MAILTO:sbdc@temple.edu
END:VEVENT
END:VCALENDAR