BEGIN:VCALENDAR
VERSION:2.0
PRODID:-//PA Business One-Stop Shop - ECPv5.14.0.4//NONSGML v1.0//EN
CALSCALE:GREGORIAN
METHOD:PUBLISH
X-WR-CALNAME:PA Business One-Stop Shop
X-ORIGINAL-URL:https://business.pa.gov
X-WR-CALDESC:Events for PA Business One-Stop Shop
REFRESH-INTERVAL;VALUE=DURATION:PT1H
X-Robots-Tag:noindex
X-PUBLISHED-TTL:PT1H
BEGIN:VTIMEZONE
TZID:America/New_York
BEGIN:DAYLIGHT
TZOFFSETFROM:-0500
TZOFFSETTO:-0400
TZNAME:EDT
DTSTART:20260308T070000
END:DAYLIGHT
BEGIN:STANDARD
TZOFFSETFROM:-0400
TZOFFSETTO:-0500
TZNAME:EST
DTSTART:20261101T060000
END:STANDARD
END:VTIMEZONE
BEGIN:VEVENT
DTSTART;TZID=America/New_York:20260424T100000
DTEND;TZID=America/New_York:20260424T113000
DTSTAMP:20260424T100719
CREATED:20260325T132149Z
LAST-MODIFIED:20260325T161644Z
UID:119047-1777024800-1777030200@business.pa.gov
SUMMARY:The First Step to Starting a Business
DESCRIPTION:Join us for a workshop that will discuss essential topics for starting a business\, including the requirements for initiation\, obtaining financing\, necessary licenses and applications\, and the significance and function of a business plan\, marketing plan\, and financial plan.  \n \nThe workshop will begin promptly at 10:00 AM. This workshop will be offered via Zoom\, and in person\, at the PA CareerLink Lehigh® Valley office. When registering\, please choose if you will attend in-person or online. If you choose online attendance\, links will be sent closer to the event date. \n \nIN PERSON LOCATION: PA CareerLink® Lehigh Valley | 555 Union Boulevard Allentown PA\, 18109
URL:https://business.pa.gov/event/the-first-step-to-starting-a-business-04-24-2026/
LOCATION:555 Union Blvd\, Allentown\, PA\, 18109-3389\, United States
CATEGORIES:Business Start-up/Preplanning
ATTACH;FMTTYPE=image/png:https://business.pa.gov/wp-content/uploads/2026/03/7284ADF2-9F24-440A-8649-89B669A02503-mHPpHg.tmp_.png
ORGANIZER;CN="PA%20CareerLink%20Lehigh%20Valley":MAILTO:sbdc@lehigh.edu
END:VEVENT
BEGIN:VEVENT
DTSTART;TZID=America/New_York:20260429T173000
DTEND;TZID=America/New_York:20260429T193000
DTSTAMP:20260424T100719
CREATED:20260325T132355Z
LAST-MODIFIED:20260325T162403Z
UID:119055-1777483800-1777491000@business.pa.gov
SUMMARY:Second Step:  Developing a Business Plan - Virtual 5:30 to 7:30 PM
DESCRIPTION:Most financing options require a solid business plan. Learn all you need to know about operational and production planning\, conducting market research and creating financial spreadsheets to attract funding for your business. \n \nVirtual 
URL:https://business.pa.gov/event/second-step-developing-a-business-plan-virtual-530-to-730-pm-3/
LOCATION:Webinar\, United States
CATEGORIES:Business Start-up/Preplanning
ATTACH;FMTTYPE=image/png:https://business.pa.gov/wp-content/uploads/2026/03/CFDB7558-F2AB-4EEB-A1BD-BEF1E59ACC4F-1O3iNU.tmp_.png
ORGANIZER;CN="SBDC%20Admin":MAILTO:SBDC@pitt.edu
END:VEVENT
END:VCALENDAR