BEGIN:VCALENDAR
VERSION:2.0
PRODID:-//PA Business One-Stop Shop - ECPv5.14.0.4//NONSGML v1.0//EN
CALSCALE:GREGORIAN
METHOD:PUBLISH
X-WR-CALNAME:PA Business One-Stop Shop
X-ORIGINAL-URL:https://business.pa.gov
X-WR-CALDESC:Events for PA Business One-Stop Shop
REFRESH-INTERVAL;VALUE=DURATION:PT1H
X-Robots-Tag:noindex
X-PUBLISHED-TTL:PT1H
BEGIN:VTIMEZONE
TZID:America/New_York
BEGIN:DAYLIGHT
TZOFFSETFROM:-0500
TZOFFSETTO:-0400
TZNAME:EDT
DTSTART:20260308T070000
END:DAYLIGHT
BEGIN:STANDARD
TZOFFSETFROM:-0400
TZOFFSETTO:-0500
TZNAME:EST
DTSTART:20261101T060000
END:STANDARD
END:VTIMEZONE
BEGIN:VEVENT
DTSTART;TZID=America/New_York:20260420T170000
DTEND;TZID=America/New_York:20260420T190000
DTSTAMP:20260425T071849
CREATED:20260325T131744Z
LAST-MODIFIED:20260325T164534Z
UID:119021-1776704400-1776711600@business.pa.gov
SUMMARY:Building A Custom GPT
DESCRIPTION:Registration Policies:\nRegistration and Fees: Payment of seminar fees may be made by check\, money order or credit card. Payment must be received to guarantee your space in an event. \nRefund Policy: If you wish to request a refund\, please contact the conference organizer listed above to discuss. You may also elect to send a substitute in your place. If the event is cancelled\, all fees will be returned. \nSpecial Accommodations: In accordance with the American Disabilities Act and state law\, you may request accommodations due to a disability by contacting the event organizer listed above. Advance notice may be necessary for some accommodations. Registration must be paid prior to accommodation requests.
URL:https://business.pa.gov/event/building-a-custom-gpt/
LOCATION:Webinar\, United States
CATEGORIES:Internet/Web Training
ATTACH;FMTTYPE=image/png:https://business.pa.gov/wp-content/uploads/2026/03/0E9C9E4A-6B5E-433D-A33B-B94B2B53CD3E-Q4t7C3.tmp_.png
ORGANIZER;CN="Rachael%20Wolfe":MAILTO:rwolfe@kutztown.edu
END:VEVENT
END:VCALENDAR